BEGIN:VCALENDAR
VERSION:2.0
PRODID:https://www.roessli-wahlendorf.ch
METHOD:PUBLISH
BEGIN:VEVENT
LOCATION:<span></span>
SUMMARY:Musik - Brunch 2017
DESCRIPTION:

 


CLASS:PUBLIC
DTSTART:20171029T100000
DTEND:20171029T160000
END:VEVENT
END:VCALENDAR