BEGIN:VCALENDAR
VERSION:2.0
PRODID:https://www.roessli-wahlendorf.ch
METHOD:PUBLISH
BEGIN:VEVENT
LOCATION:<span></span>
SUMMARY:Chauffeur - Stamm
DESCRIPTION:

 


CLASS:PUBLIC
DTSTART:20200723T183000
DTEND:20200723T200000
END:VEVENT
END:VCALENDAR